BEGIN:VCALENDAR
VERSION:2.0
PRODID:-//COMSOFIL - ECPv6.15.20//NONSGML v1.0//EN
CALSCALE:GREGORIAN
METHOD:PUBLISH
X-ORIGINAL-URL:https://comsofil.org
X-WR-CALDESC:Events for COMSOFIL
REFRESH-INTERVAL;VALUE=DURATION:PT1H
X-Robots-Tag:noindex
X-PUBLISHED-TTL:PT1H
BEGIN:VTIMEZONE
TZID:Asia/Riyadh
BEGIN:STANDARD
TZOFFSETFROM:+0300
TZOFFSETTO:+0300
TZNAME:+03
DTSTART:20200101T000000
END:STANDARD
END:VTIMEZONE
BEGIN:VEVENT
DTSTART;VALUE=DATE:20230519
DTEND;VALUE=DATE:20230520
DTSTAMP:20260424T082704
CREATED:20230505T132917Z
LAST-MODIFIED:20230505T134039Z
UID:6940-1684454400-1684540799@comsofil.org
SUMMARY:Graduation- 51st Commencement Exercises 2023
DESCRIPTION:Important Announcement\n  \n  \nWho: Students and Instructors \nWhat: Graduation- 51st Commencement Exercises \nWhen: May 19\, 2023\, at 7:30AM to 3:30PM \nWhere: Covered Court Male Section of Elite International School \nAttire: Formal dress for all BODs\, BOTs\, Instructors and Support \nStudents: Healthcare Allied – Scrub suit \nStudents Non-Healthcare Allied- Long sleeve/ Slacks for Male and White Dress or Formal White\nDress for Female \n  \n1. Start processing your graduation clearance and settle your cluster financial deficiencies on or\nbefore May 12\, 2023 to VP Finance.\n2. The final list of candidates for graduation will be posted by May 12\, 2023.\n3. Make sure that your name is on list\, if not you are encouraged to look for VP Finance or VP\nEducation to obtain your clearance.\n4. Distribution of Certificate of Completion and Yearbook will be on the same day.\n5. TOR is upon the request of the student for details please coordinate with COMSOFIL Admin.\nFor instructor\, you are kindly requested to inform your students to obtain clearance from Finance\nand ensure to give all the list of students who complied with your requirements.\nFor your information and strict compliance. \n  \nThank you\, \nMichael D. Mabubay\n2023 President \n  \n  \nCc: 2023 COMSOFIL Board of Directors \n  \n  \n 
URL:https://comsofil.org/event/graduation-51st-commencement-exercises/
LOCATION:EIS\, Ibn Al Muhtasib\, Al Olaya\, Riyadh 12221\, Riyadh\, 12221\, Saudi Arabia
ATTACH;FMTTYPE=image/jpeg:https://storage.googleapis.com/comsofil-website-media/2023/05/269603588_5184655028215566_1256336039063774895_n.jpg
ORGANIZER;CN="Board of Directors":MAILTO:info@comsofil.org
END:VEVENT
BEGIN:VEVENT
DTSTART;TZID=Asia/Riyadh:20220530T080000
DTEND;TZID=Asia/Riyadh:20220530T170000
DTSTAMP:20260424T082704
CREATED:20220530T113239Z
LAST-MODIFIED:20220530T122504Z
UID:4673-1653897600-1653930000@comsofil.org
SUMMARY:Comsofil Graduation 052722
DESCRIPTION:“Go confidently in the direction of your dreams. Live the life you have imagined”.
URL:https://comsofil.org/event/comsofil-graduation-052722/
END:VEVENT
BEGIN:VEVENT
DTSTART;TZID=Asia/Riyadh:20220316T200000
DTEND;TZID=Asia/Riyadh:20220316T220000
DTSTAMP:20260424T082704
CREATED:20220316T174210Z
LAST-MODIFIED:20220324T213102Z
UID:4001-1647460800-1647468000@comsofil.org
SUMMARY:Healthcare Service OJT Orientation
DESCRIPTION:For student members in Healthcare services\, make sure that you attend this OJT Orientation. \nAlso\, kindly submit your attendance below. \n  \n\nJavascript is disabledJavascript is disabled on your browser. Please enable it in order to use this form. \nLoading\n\nOops!This form has expired \n 
URL:https://comsofil.org/event/healthcare-service-ojt-orientation/
CATEGORIES:Cluster Classes,Event,Orientation
ATTACH;FMTTYPE=image/png:https://storage.googleapis.com/comsofil-website-media/2022/03/Events-website-image-16x9-ratio.png
ORGANIZER;CN="Board of Directors":MAILTO:info@comsofil.org
END:VEVENT
BEGIN:VEVENT
DTSTART;VALUE=DATE:20211217
DTEND;VALUE=DATE:20211218
DTSTAMP:20260424T082704
CREATED:20211201T190438Z
LAST-MODIFIED:20220324T214821Z
UID:2861-1639699200-1639785599@comsofil.org
SUMMARY:Graduation & General Assembly
DESCRIPTION:2021 of 2nd semester’s  300+ members who attended from the 50+ Cluster Classes from September to November will receive their Completion Certificate on this Graduation Ceremony.  Witness your friends and classmates go up the stage in culmination of their hard work and perseverance to learn and upgrade their skillsets. \nIt is also an election for the new set of sixteen (16) Board of Directors (BOD) for the year 2022.  You will hear from 20+ candidates on how they intend to help the members and take the Society to move forward.  Then the active members will choose from the 20+ candidates and cast their votes online.  Yes\, this will be the 2nd time Comsofil will hold its election online!
URL:https://comsofil.org/event/graduation-general-assembly/
LOCATION:EIS\, Ibn Al Muhtasib\, Al Olaya\, Riyadh 12221\, Riyadh\, 12221\, Saudi Arabia
CATEGORIES:Election,Event,Graduation
ATTACH;FMTTYPE=image/jpeg:https://storage.googleapis.com/comsofil-website-media/2022/01/2nd-Sem-2021-Graduation-1w-scaled.jpg
ORGANIZER;CN="Board of Directors":MAILTO:info@comsofil.org
END:VEVENT
END:VCALENDAR